BEGIN:VCALENDAR
VERSION:2.0
PRODID:-//hacksw/handcal//NONSGML v1.0//EN
BEGIN:VEVENT
SUMMARY:Entrainement
UID:bb2a40ef-6bff-4702-943a-ea7b72dea2ac
DTSTART:20260316T090000Z
DTEND:20260316T130000Z
LOCATION:Localisation   
CATEGORIES:Sportif
STATUS:
DESCRIPTION:Entrainement pour tout le monde afin de preparer les
 prochains tournois.
URL;VALUE=URI:https://test-yoann-app.sportsregions.fr/evenements/2026/03/16/entrainement-2428916
END:VEVENT
END:VCALENDAR
